BEGIN:VCALENDAR
VERSION:2.0
PRODID:-//eventon.com NONSGML v1.0//EN
BEGIN:VEVENT
UID:69e6883fb2b0e
DTSTAMP:20260420T141039
DTSTART:20170907T223000Z
DTEND:20170908T013000Z
TZID:America/Chicago
LOCATION:Merchandise Mart 6th Floor 222 W. Merchandise Mart Plaza Suite 1212 Chicago IL 60654
SUMMARY:Van Andel Institute's Designs on a Cure Cocktail Fundraiser
DESCRIPTION: Van Andel Institute&#8217;s Designs on a Cure Cocktail Fundraiser The 6th floor showrooms at Chicago’s Merchandise Mart and Van Andel Institute are coming together to support cancer research. On September 7\,  2017\,  the Institute will host Designs on a Cure—an event bringing luxury and science together for an evening you[..]\nhttps://www.socialifechicago.com/events/van-andel-institutes-designs-cure-cocktail-fundraiser/
URL:https://www.socialifechicago.com/events/van-andel-institutes-designs-cure-cocktail-fundraiser/
END:VEVENT
END:VCALENDAR